BEGIN:VCALENDAR
VERSION:2.0
BEGIN:VEVENT
DTSTART;TZID=Europe/Stockholm:20260816T110000
DTEND;TZID=Europe/Stockholm:20260816T120000
DTSTAMP:20260420T140631
DESCRIPTION:Som traditionen blivit, så samarbetar vi med Boo församling och Hembygdsföreningen kring en gudstjänst vid Hembygdsgården i Orminge.
Välkommen dit!
SEQUENCE:0
SUMMARY:Friluftsgudstjänst i Orminge
UID:5528@lawebb.se
END:VEVENT
END:VCALENDAR