BEGIN:VCALENDAR
VERSION:2.0
BEGIN:VEVENT
DTSTART;TZID=Europe/Stockholm:20260613T110000
DTEND;TZID=Europe/Stockholm:20260613T120000
DTSTAMP:20260420T112423
DESCRIPTION:Returbruk har öppet. Sista lördagen för säsongen kl 11–14. Du är välkommen att fynda. Eller att lämna in grejor under butikens öppettid eller efter överenskommelse med Anna Maja Sigemo 070 499 44 21.
SEQUENCE:0
SUMMARY:Returbruk öppet. Sista för säsongen
UID:6754@lawebb.se
END:VEVENT
END:VCALENDAR