BEGIN:VCALENDAR
VERSION:2.0
BEGIN:VEVENT
DTSTART;TZID=Europe/Stockholm:20260517T173000
DTEND;TZID=Europe/Stockholm:20260517T183000
DTSTAMP:20260422T103832
DESCRIPTION:Alla är välkomna till församlingsmötet, men rösträtt har endast medlemmar.
SEQUENCE:0
SUMMARY:Församlingsmöte
UID:6969@lawebb.se
END:VEVENT
END:VCALENDAR