BEGIN:VCALENDAR
VERSION:2.0
BEGIN:VEVENT
DTSTART;TZID=Europe/Stockholm:20260517T160000
DTEND;TZID=Europe/Stockholm:20260517T170000
DTSTAMP:20260420T101314
DESCRIPTION:Samtal om livsfrågor under ledning av Ulf Bergsviker. Tema för samtalet: &#34;Underkastelse och/eller stolthet&#34;
Kl 17, efter samtalet, kort andakt i tidebönstraditionen.
SEQUENCE:0
SUMMARY:Forum för livsfrågor
UID:2728@lawebb.se
END:VEVENT
END:VCALENDAR