BEGIN:VCALENDAR
VERSION:2.0
BEGIN:VEVENT
DTSTART;TZID=Europe/Stockholm:20260507T190000
DTEND;TZID=Europe/Stockholm:20260507T200000
DTSTAMP:20260420T101857
DESCRIPTION:Mat ska användas – inte kastas.
Thomas Hellström förmedlar mat till behövande, fullgod mat som är på väg att gå ut. Ett samarbete med Svenska Matbanksnätverket. Fika från kl 18:30. Välkommen!
SEQUENCE:0
SUMMARY:Mat ska användas – inte kastas
UID:8962@lawebb.se
END:VEVENT
END:VCALENDAR