BEGIN:VCALENDAR
VERSION:2.0
BEGIN:VEVENT
DTSTART;TZID=Europe/Stockholm:20260506T190000
DTEND;TZID=Europe/Stockholm:20260506T200000
DTSTAMP:20260420T101437
DESCRIPTION:Start kl 19. Slut kl 21:15. Bibliodrama, ett spännande sätt att närma sig en text. Anmäl deltagande till bibliodramaledare Eva Danneholm tel 070-273 17 57 så får du inloggningskod.
SEQUENCE:0
SUMMARY:Bibliodrama DIGITALT
UID:7398@lawebb.se
END:VEVENT
END:VCALENDAR