BEGIN:VCALENDAR
VERSION:2.0
BEGIN:VEVENT
DTSTART;TZID=Europe/Stockholm:20260122T190000
DTEND;TZID=Europe/Stockholm:20260122T200000
DTSTAMP:20260420T101806
DESCRIPTION:Att bli sedd
Urban Hjelm jobbar med filmkameran för att hjälpa oss till självinsikt (individen att se sig själv)
Fika från 18.30. Välkommen!
SEQUENCE:0
SUMMARY:Föredrag: Att bli sedd
UID:6333@lawebb.se
END:VEVENT
END:VCALENDAR