BEGIN:VCALENDAR
VERSION:2.0
BEGIN:VEVENT
DTSTART;TZID=Europe/Stockholm:20260118T160000
DTEND;TZID=Europe/Stockholm:20260118T170000
DTSTAMP:20260420T100923
DESCRIPTION:Samtal om livsfrågor under ledning av Ulf Bergsviker. Tema för samtalet: &#34;Medlem hos Gud eller i församlingen?&#34;
Kl 17, efter samtalet, kort andakt i tidebönstraditionen.
SEQUENCE:0
SUMMARY:Forum för livsfrågor
UID:3328@lawebb.se
END:VEVENT
END:VCALENDAR