BEGIN:VCALENDAR
VERSION:2.0
BEGIN:VEVENT
DTSTART;TZID=Europe/Stockholm:20260117T110000
DTEND;TZID=Europe/Stockholm:20260117T120000
DTSTAMP:20260422T111307
DESCRIPTION:
SEQUENCE:0
SUMMARY:Returbruk öppnar igen
UID:7436@lawebb.se
END:VEVENT
END:VCALENDAR