BEGIN:VCALENDAR
VERSION:2.0
BEGIN:VEVENT
DTSTART;TZID=Europe/Stockholm:20251220T170000
DTEND;TZID=Europe/Stockholm:20251220T180000
DTSTAMP:20260420T112339
DESCRIPTION:Operasångarna Alexandra Büchel (sopran), Fredrik Zetterström (baryton) och Ludvig Nilsson (piano) valde Björknäskyrkan för sin JULKONSERT. De bjuder på fin jul- och adventsmusik. Entré 100 kr, barn 50 kr. Välkommen!
SEQUENCE:0
SUMMARY:Julkonsert
UID:6788@lawebb.se
END:VEVENT
END:VCALENDAR