BEGIN:VCALENDAR
VERSION:2.0
BEGIN:VEVENT
DTSTART;TZID=Europe/Stockholm:20251213T110000
DTEND;TZID=Europe/Stockholm:20251213T120000
DTSTAMP:20260420T113118
DESCRIPTION:
SEQUENCE:0
SUMMARY:Returbruk stängt över helgerna
UID:9452@lawebb.se
END:VEVENT
END:VCALENDAR