BEGIN:VCALENDAR
VERSION:2.0
BEGIN:VEVENT
DTSTART;TZID=Europe/Stockholm:20251206T110000
DTEND;TZID=Europe/Stockholm:20251206T120000
DTSTAMP:20260420T112608
DESCRIPTION:Returbruk har öppet helgfria lördagar kl 11–14. Du är välkommen att lämna in grejor under butikens öppettid eller efter överenskommelse med Anna Maja Sigemo 070 499 44 21.
SEQUENCE:0
SUMMARY:Returbruk öppet. Sista innan julledigheten
UID:2887@lawebb.se
END:VEVENT
END:VCALENDAR