BEGIN:VCALENDAR
VERSION:2.0
BEGIN:VEVENT
DTSTART;TZID=Europe/Stockholm:20251206T120000
DTEND;TZID=Europe/Stockholm:20251206T130000
DTSTAMP:20260420T112605
DESCRIPTION:Vi bjuder på traditionell och kreativ adventskonsert under ledning av Martin Olofsson och Anna Brämming Bjare.
Samt go adventsfika!
SEQUENCE:0
SUMMARY:Adventskonsert
UID:5654@lawebb.se
END:VEVENT
END:VCALENDAR