BEGIN:VCALENDAR
VERSION:2.0
BEGIN:VEVENT
DTSTART;TZID=Europe/Stockholm:20251130T163000
DTEND;TZID=Europe/Stockholm:20251130T173000
DTSTAMP:20260420T125703
DESCRIPTION:Församlingsmöte kl 16:30, innan Sinnesrogudstjänsten.
SEQUENCE:0
SUMMARY:Församlingsmöte
UID:3747@lawebb.se
END:VEVENT
END:VCALENDAR