BEGIN:VCALENDAR
VERSION:2.0
BEGIN:VEVENT
DTSTART;TZID=Europe/Stockholm:20251127T190000
DTEND;TZID=Europe/Stockholm:20251127T200000
DTSTAMP:20260420T130026
DESCRIPTION:På vilket sätt är andlighet viktigt i samhället? Och är ”andlig” samma sak som ”religiös”?
Tim Sundberg, affärsarkitekt i finansvärlden, gör betraktelser av samhällsutvecklingen.
Fika från 18:30. Välkommen!
SEQUENCE:0
SUMMARY:Andlighet i samhällsutvecklingen
UID:7734@lawebb.se
END:VEVENT
END:VCALENDAR