BEGIN:VCALENDAR
VERSION:2.0
BEGIN:VEVENT
DTSTART;TZID=Europe/Stockholm:20251118T190000
DTEND;TZID=Europe/Stockholm:20251118T200000
DTSTAMP:20260420T125347
DESCRIPTION:Start kl 19, fika från kl 18:30. Slut kl 21:15. Bibliodrama, ett spännande sätt att närma sig en text. I höst arbetar vi med texter ur Psaltaren. Anmäl deltagande till bibliodramaledare Eva Danneholm tel 070-273 17 57 *eller bara kom!*
SEQUENCE:0
SUMMARY:Bibliodrama
UID:3344@lawebb.se
END:VEVENT
END:VCALENDAR