BEGIN:VCALENDAR
VERSION:2.0
BEGIN:VEVENT
DTSTART;TZID=Europe/Stockholm:20251113T190000
DTEND;TZID=Europe/Stockholm:20251113T200000
DTSTAMP:20260420T130015
DESCRIPTION:Favoritkören framför Mozarts Requiem under Martin Olofssons ledning. Fika från kl 18:30.
Välkommen!
SEQUENCE:0
SUMMARY:Mozarts requiem INSTÄLLT PGA SJUKDOM
UID:4364@lawebb.se
END:VEVENT
END:VCALENDAR