BEGIN:VCALENDAR
VERSION:2.0
BEGIN:VEVENT
DTSTART;TZID=Europe/Stockholm:20251106T190000
DTEND;TZID=Europe/Stockholm:20251106T200000
DTSTAMP:20260420T125302
DESCRIPTION:Är förändring med AI dålig eller bra? Civilekonom Carl-Johan Westring ger en bild av de förändringar som väntas.
Fika från kl 18:30. Välkommen!
SEQUENCE:0
SUMMARY:Arbetslöshet eller effektivitet?
UID:8436@lawebb.se
END:VEVENT
END:VCALENDAR