BEGIN:VCALENDAR
VERSION:2.0
BEGIN:VEVENT
DTSTART;TZID=Europe/Stockholm:20251101T000000
DTEND;TZID=Europe/Stockholm:20251101T240000
DTSTAMP:20260420T125536
DESCRIPTION:
SEQUENCE:0
SUMMARY:Returbruk har stängt
UID:5445@lawebb.se
END:VEVENT
END:VCALENDAR