BEGIN:VCALENDAR
VERSION:2.0
BEGIN:VEVENT
DTSTART;TZID=Europe/Stockholm:20251030T190000
DTEND;TZID=Europe/Stockholm:20251030T200000
DTSTAMP:20260420T142330
DESCRIPTION:Föredrag/samtal. Urban Hjelm berättar hur han jobbar med filmkameran för att hjälpa oss till självinsikt.
Fika från kl 18:30. Välkommen!
SEQUENCE:0
SUMMARY:Att bli sedd!
UID:4795@lawebb.se
END:VEVENT
END:VCALENDAR