BEGIN:VCALENDAR
VERSION:2.0
BEGIN:VEVENT
DTSTART;TZID=Europe/Stockholm:20251026T193000
DTEND;TZID=Europe/Stockholm:20251026T203000
DTSTAMP:20260420T141750
DESCRIPTION:Efter sinnesrogudstjänsten har vi församlingsmöte, cirka kl 19:30. Alla som är intresserade av Björknäskyrkans verksamhet är välkomna.
SEQUENCE:0
SUMMARY:Församlingsmöte
UID:7968@lawebb.se
END:VEVENT
END:VCALENDAR