BEGIN:VCALENDAR
VERSION:2.0
BEGIN:VEVENT
DTSTART;TZID=Europe/Stockholm:20251026T180000
DTEND;TZID=Europe/Stockholm:20251026T190000
DTSTAMP:20260420T141940
DESCRIPTION:Sinnesrogudstjänst med Thomas Hellström. Sista söndagen varje månad kl 18.
SEQUENCE:0
SUMMARY:Sinnesrogudstjänst
UID:9984@lawebb.se
END:VEVENT
END:VCALENDAR