BEGIN:VCALENDAR
VERSION:2.0
BEGIN:VEVENT
DTSTART;TZID=Europe/Stockholm:20251023T190000
DTEND;TZID=Europe/Stockholm:20251023T200000
DTSTAMP:20260420T142237
DESCRIPTION:Föredrag/samtal. Marie Kullenberg har fördjupat sig i de medeltida kvinnliga mystikernas tänkande (eller om det är kännande).
Fika från 18.30. Välkommen!
SEQUENCE:0
SUMMARY:Kvinnors särskilda tråd in i mystiken
UID:5393@lawebb.se
END:VEVENT
END:VCALENDAR