BEGIN:VCALENDAR
VERSION:2.0
BEGIN:VEVENT
DTSTART;TZID=Europe/Stockholm:20251019T160000
DTEND;TZID=Europe/Stockholm:20251019T170000
DTSTAMP:20260420T141541
DESCRIPTION:Tema: *Att finnas i stället för inte: när döden korsar livet*. I Forum för livsfrågor samtalar vi över livsfrågor, existentiella frågor, relationsfrågor etc. Ulf Bergsviker leder samtalet.
Kl 17 har vi en kort andakt i tidebönstraditionen.
Kom på båda eller bara det ena
SEQUENCE:0
SUMMARY:Forum för livsfrågor
UID:9595@lawebb.se
END:VEVENT
END:VCALENDAR