BEGIN:VCALENDAR
VERSION:2.0
BEGIN:VEVENT
DTSTART;TZID=Europe/Stockholm:20251016T190000
DTEND;TZID=Europe/Stockholm:20251016T200000
DTSTAMP:20260420T142210
DESCRIPTION:En änglakväll då angeologen Åsa Guldstråle berättar om hur änglar kan berika ditt liv och hur du kan känna av deras närvaro
Fika från 18.30. Välkommen!
SEQUENCE:0
SUMMARY:Ta hjälp av skyddsänglar
UID:9497@lawebb.se
END:VEVENT
END:VCALENDAR