BEGIN:VCALENDAR
VERSION:2.0
BEGIN:VEVENT
DTSTART;TZID=Europe/Stockholm:20251002T190000
DTEND;TZID=Europe/Stockholm:20251002T200000
DTSTAMP:20260420T141750
DESCRIPTION:Anna Brämming Bjare med ensemble leder oss i ett melodikryss live till fikat.
Fika framme från kl 18:30. Välkommen!
SEQUENCE:0
SUMMARY:Melodikryssa med Anna
UID:2498@lawebb.se
END:VEVENT
END:VCALENDAR