BEGIN:VCALENDAR
VERSION:2.0
BEGIN:VEVENT
DTSTART;TZID=Europe/Stockholm:20250928T180000
DTEND;TZID=Europe/Stockholm:20250928T190000
DTSTAMP:20260420T153824
DESCRIPTION:Sinnesrogudstjänst med Thomas Hellström. Sista söndagen varje månad kl 18.
SEQUENCE:0
SUMMARY:Sinnesrogudstjänst
UID:7826@lawebb.se
END:VEVENT
END:VCALENDAR