BEGIN:VCALENDAR
VERSION:2.0
BEGIN:VEVENT
DTSTART;TZID=Europe/Stockholm:20250927T100000
DTEND;TZID=Europe/Stockholm:20250927T110000
DTSTAMP:20260420T153643
DESCRIPTION:Välkommen att göra en insats för att snygga upp Björknäskyrkans tomt. Kl 10–14 finns vi där. Kom så länge du har tid och lust.
SEQUENCE:0
SUMMARY:Arbetsdag på gården
UID:9235@lawebb.se
END:VEVENT
END:VCALENDAR