BEGIN:VCALENDAR
VERSION:2.0
BEGIN:VEVENT
DTSTART;TZID=Europe/Stockholm:20250925T190000
DTEND;TZID=Europe/Stockholm:20250925T200000
DTSTAMP:20260420T153748
DESCRIPTION:Föredrag/samtal. Sidney Holm, kreativ politiker, tekniknörd och vardagsfilosof, reflekterar över vilka förändringar som följer med AI.
Fika från kl 18:30. Välkommen!
SEQUENCE:0
SUMMARY:Så kommer samhället förändras genom AI
UID:5366@lawebb.se
END:VEVENT
END:VCALENDAR