BEGIN:VCALENDAR
VERSION:2.0
BEGIN:VEVENT
DTSTART;TZID=Europe/Stockholm:20250921T160000
DTEND;TZID=Europe/Stockholm:20250921T170000
DTSTAMP:20260420T153747
DESCRIPTION:Tema: *Existens: när evigheten korsar tiden*. I Forum för livsfrågor samtalar vi över livsfrågor, existentiella frågor, relationsfrågor etc. Ulf Bergsviker leder samtalet.
Kl 17 har vi en kort andakt i tidebönstraditionen.
Kom på båda eller bara det ena.
SEQUENCE:0
SUMMARY:Forum för livsfrågor
UID:6285@lawebb.se
END:VEVENT
END:VCALENDAR