BEGIN:VCALENDAR
VERSION:2.0
BEGIN:VEVENT
DTSTART;TZID=Europe/Stockholm:20250831T180000
DTEND;TZID=Europe/Stockholm:20250831T190000
DTSTAMP:20260420T170036
DESCRIPTION:Sinnesrogudstjänst med Thomas Hellström. Sista söndagen varje månad kl 18.
SEQUENCE:0
SUMMARY:Sinnesrogudstjänst
UID:5378@lawebb.se
END:VEVENT
END:VCALENDAR