BEGIN:VCALENDAR
VERSION:2.0
BEGIN:VEVENT
DTSTART;TZID=Europe/Stockholm:20250817T110000
DTEND;TZID=Europe/Stockholm:20250817T120000
DTSTAMP:20260420T165250
DESCRIPTION:Vi firar gudstjänst i samarbete med Boo församling och Boo hembygdsförening. Det är ett arrangemang som vi gjort tillsammans under många år. Fika efteråt.
SEQUENCE:0
SUMMARY:Friluftsgudstjänst vid Hembygdsgården Orminge
UID:6643@lawebb.se
END:VEVENT
END:VCALENDAR