BEGIN:VCALENDAR
VERSION:2.0
BEGIN:VEVENT
DTSTART;TZID=Europe/Stockholm:20250816T110000
DTEND;TZID=Europe/Stockholm:20250816T120000
DTSTAMP:20260420T170221
DESCRIPTION:Returbruk har öppet helgfria lördagar kl 11–14. Du är välkommen att lämna in grejer under butikens öppettid eller efter överenskommelse med Anna Maja Sigemo 070 499 44 21.
SEQUENCE:0
SUMMARY:Returbruk öppnar igen efter sommaren
UID:9875@lawebb.se
END:VEVENT
END:VCALENDAR