BEGIN:VCALENDAR
VERSION:2.0
BEGIN:VEVENT
DTSTART;TZID=Europe/Stockholm:20250524T110000
DTEND;TZID=Europe/Stockholm:20250524T120000
DTSTAMP:20260421T101116
DESCRIPTION:Samtidigt som Returbruk är öppet så snyggar vi till på kyrkans tomt. Alla är välkomna en kort eller en längre stund. Det bjuds på kaffe och en macka.
SEQUENCE:0
SUMMARY:Arbetsdag på kyrkans tomt
UID:7475@lawebb.se
END:VEVENT
END:VCALENDAR