BEGIN:VCALENDAR
VERSION:2.0
BEGIN:VEVENT
DTSTART;TZID=Europe/Stockholm:20250508T190000
DTEND;TZID=Europe/Stockholm:20250508T200000
DTSTAMP:20260421T100631
DESCRIPTION:Bo Hollsten tar oss med i en övning i inbildningens värld.
Fika framme från kl 18:30. Välkommen!
SEQUENCE:0
SUMMARY:Bygga en större själ, finns det skäl till det?
UID:9663@lawebb.se
END:VEVENT
END:VCALENDAR